Workbook

Sheet PAC
A1: CATEGORIA | B1: GRUPO DE DESPESA | C1: ITEM | D1: UNF | E1: QUANTIDADE | F1: VALOR UNITÁRIO | G1: VALOR TOTAL | H1: DATA INICIAL | I1: DATA FINAL | J1: VINCULO | K1: PROJETO | L1: JUSTIFICATIVA | M1: LOGADO POR | N1: SECRETARIA | O1: DATA DE INCLUSÃO
A2: Material de Consumo | B2: Gêneros de Alimentação | C2: AÇUCAR CRISTAL BRANCO, PACOTE DE 2 KG | D2: Unidade | E2: 10 | F2: 6.89 | G2: =E2*F2 -> 68.9 | H2: JANEIRO | I2: DEZEMBRO | J2: NÃO | K2: NÃO | L2: Para uso na cozinha do Centro Administrativo. | M2: ADMINISTRAÇÃO | N2: ADMINISTRAÇÃO
A3: Material de Consumo | B3: Material para Manutenção de Bens Imóveis | C3: ADESIVO SILICONE TRANSP. 275 ML | D3: Unidade | E3: 20 | F3: 27.99 | G3: =E3*F3 -> 559.8 | H3: JANEIRO | I3: DEZEMBRO | J3: NÃO | K3: NÃO | L3: Manutenção da Secretaria | M3: ADMINISTRAÇÃO | N3: ADMINISTRAÇÃO
A4: Material de Consumo | B4: Combustiveis e Lubrificantes Automotivos | C4: ADITIVO CONDICIONADOR DE METAIS | D4: Unidade | E4: 4 | F4: 81 | G4: =E4*F4 -> 324 | H4: JANEIRO | I4: DEZEMBRO | J4: NÃO | K4: NÃO | L4: Para uso na manutenção dos veículos do Gabinete e Secretaria de Administração | M4: ADMINISTRAÇÃO | N4: ADMINISTRAÇÃO
A5: Material de Consumo | B5: Combustiveis e Lubrificantes Automotivos | C5: ADITIVO PARA RADIADOR 1L | D5: Unidade | E5: 6 | F5: 24.9 | G5: =E5*F5 -> 149.4 | H5: JANEIRO | I5: DEZEMBRO | J5: NÃO | K5: NÃO | L5: Para uso na manutenção dos veículos do Gabinete e Secretaria de Administração. | M5: ADMINISTRAÇÃO | N5: ADMINISTRAÇÃO
A6: Material de Consumo | B6: Material de Expediente | C6: AGENDA EXECUTIVA | D6: Unidade | E6: 300 | F6: 34.9 | G6: =E6*F6 -> 10470 | H6: AGOSTO | I6: DEZEMBRO | J6: NÃO | K6: NÃO | L6: Agendas executivas aos servidores públicos municipais, para melhor organização de suas atividades | M6: ADMINISTRAÇÃO | N6: ADMINISTRAÇÃO
A7: Material de Consumo | B7: Gêneros de Alimentação | C7: ÁGUA MINERAL COM GÁS(FARDO COM 12 UNIDADES) | D7: Unidade | E7: 35 | F7: 12.5 | G7: =E7*F7 -> 437.5 | H7: JANEIRO | I7: DEZEMBRO | J7: NÃO | K7: NÃO | L7: Manutenção do Gabinete da Prefeita | M7: ADMINISTRAÇÃO | N7: ADMINISTRAÇÃO
A8: Material de Consumo | B8: Gêneros de Alimentação | C8: ÁGUA MINERAL SEM GÁS (FARDO COM 12 UNIDADES) | D8: Unidade | E8: 35 | F8: 12.5 | G8: =E8*F8 -> 437.5 | H8: JANEIRO | I8: DEZEMBRO | J8: NÃO | K8: NÃO | L8: Manutenção do Gabinete da Prefeita | M8: ADMINISTRAÇÃO | N8: ADMINISTRAÇÃO
A9: Material de Consumo | B9: Material de Limpeza e Produtos de Higienização | C9: ÁGUA SANITÁRIA 2L | D9: Unidade | E9: 70 | F9: 4.59 | G9: =E9*F9 -> 321.3 | H9: DEZEMBRO | I9: DEZEMBRO | J9: NÃO | K9: NÃO | L9: Para uso na limpeza do centro administrativo. | M9: ADMINISTRAÇÃO | N9: ADMINISTRAÇÃO
A10: Material de Consumo | B10: Material de Limpeza e Produtos de Higienização | C10: ÁLCOOL ETÍLICO HIDRATADO GEL 70%, EMBALAGEM DE 500G | D10: Unidade | E10: 15 | F10: 5.4 | G10: =E10*F10 -> 81 | H10: JANEIRO | I10: DEZEMBRO | J10: NÃO | K10: NÃO | L10: Para uso na limpeza do centro administrativo. | M10: ADMINISTRAÇÃO | N10: ADMINISTRAÇÃO
A11: Material de Consumo | B11: Material de Limpeza e Produtos de Higienização | C11: ÁLCOOL ETÍLICO HIDRATADO LÍQUIDO 70° INPM, EMBALAGEM DE 01 LT | D11: Unidade | E11: 100 | F11: 8.7 | G11: =E11*F11 -> 870 | H11: JANEIRO | I11: NOVEMBRO | J11: NÃO | K11: NÃO | L11: Para uso na limpeza do centro administrativo. | M11: ADMINISTRAÇÃO | N11: ADMINISTRAÇÃO
A12: Material de Consumo | B12: Material de Uniformes, Tecidos e Aviamentos | C12: ALFINETE G | D12: Caixa | E12: 5 | F12: 6.9 | G12: =E12*F12 -> 34.5 | H12: JANEIRO | I12: DEZEMBRO | J12: NÃO | K12: NÃO | L12: Manutenção da Secretaria | M12: ADMINISTRAÇÃO | N12: ADMINISTRAÇÃO
A13: Material de Consumo | B13: Ferramentas | C13: ALICATE CRIMP RJ-45 | D13: Unidade | E13: 1 | F13: 48.8 | G13: =E13*F13 -> 48.8 | H13: JANEIRO | I13: DEZEMBRO | J13: NÃO | K13: NÃO | L13: Manutenção da Secretaria | M13: ADMINISTRAÇÃO | N13: ADMINISTRAÇÃO
... A392: Serviços | B392: Segurança Desarmada | C392: SEGURANÇA DESARMADA | D392: Unidade | E392: 15 | F392: 250 | G392: =E392*F392 -> 3750 | H392: JANEIRO | I392: DEZEMBRO | J392: NÃO | K392: NÃO | L392: Segurança para eventos da Administração Municipal | M392: ADMINISTRAÇÃO | N392: ADMINISTRAÇÃO
A393: Material de Consumo | B393: Material de Proteção e Segurança | C393: Abafador de ruidos SPR 14DB | D393: Unidade | E393: 3 | F393: 25.34 | G393: =E393*F393 -> 76.02 | H393: JANEIRO | I393: FEVEREIRO | J393: NÃO | K393: NÃO | L393: item para proteção contra ruídos para os operadores das maquina da secretaria | N393: AGRICULTURA
A394: Material de Consumo | B394: Combustiveis e Lubrificantes Automotivos | C394: ADITIVO COMBUSTIVEL 200ML | D394: Unidade | E394: 12 | F394: 11,9 | G394: =E394*F394 -> 142.8 | H394: JANEIRO | I394: DEZEMBRO | J394: NÃO | K394: NÃO | L394: PRODUTO PARA MANUTENÇÃO DOS IMPLEMENTOS DA SECRETARIA | N394: AGRICULTURA
A395: Material de Consumo | B395: Combustiveis e Lubrificantes Automotivos | C395: ADITIVO PARA RADIADOR 1L | D395: Unidade | E395: 12 | F395: 24,9 | G395: =E395*F395 -> 298.8 | H395: JANEIRO | I395: DEZEMBRO | J395: NÃO | K395: NÃO | L395: PRODUTO PARA MANUTENÇÃO DOS VEICULOS DA SECRETARIA | N395: AGRICULTURA
A396: Material de Consumo | B396: Material de Expediente | C396: AGENDA EXECUTIVA | D396: Unidade | E396: 10 | F396: 34,9 | G396: =E396*F396 -> 349 | H396: NOVEMBRO | I396: DEZEMBRO | J396: NÃO | K396: NÃO | L396: AGENDAS PARA ORGANIZAÇÃO E ANOTAÇÃO DOS FUNCIONARIOS DA SECRETARIA | N396: AGRICULTURA
A397: Material de Consumo | B397: Gêneros de Alimentação | C397: AGUA MINERAL GALÃO S/GÁS 20 LTS | D397: Unidade | E397: 12 | F397: 14,99 | G397: =E397*F397 -> 179.88 | H397: JANEIRO | I397: DEZEMBRO | J397: NÃO | K397: NÃO | L397: AGUA POTAVEL PARA CONSUMO DEE MUNICIPES E FUNCIONARIOS DA SECRETARIA | N397: AGRICULTURA
A398: Material de Consumo | B398: Material de Limpeza e Produtos de Higienização | C398: ÁGUA SANITÁRIA 2L | D398: Unidade | E398: 15 | F398: 4,59 | G398: =E398*F398 -> 68.85 | H398: JANEIRO | I398: DEZEMBRO | J398: NÃO | K398: NÃO | L398: ITEM PARA MANUTENÇÃO E LIMPEZA DA SECRETARIA | N398: AGRICULTURA
A399: Material de Consumo | B399: Material Hospitalar | C399: AGULHA DESCARTÁVEL 25X8 C/100 | D399: Caixa | E399: 2 | F399: 17,5 | G399: =E399*F399 -> 35 | H399: JANEIRO | I399: DEZEMBRO | J399: NÃO | K399: NÃO | L399: AGULHA PARA VACINAÇÃO CONTRA BRUCELOSE BOVINA | N399: AGRICULTURA
A400: Material de Consumo | B400: Material de Limpeza e Produtos de Higienização | C400: ÁLCOOL ETÍLICO HIDRATADO LÍQUIDO 70° INPM, EMBALAGEM DE 01 LT | D400: Unidade | E400: 24 | F400: 8,7 | G400: =E400*F400 -> 208.8 | H400: JANEIRO | I400: DEZEMBRO | J400: NÃO | K400: NÃO | L400: ALCOOL PARA HIGIENIZAÇÃO DA SECRETARIA | N400: AGRICULTURA
A401: Material de Consumo | B401: Material para Manutenção de Veículos | C401: AMORTECEDOR TRASEIRO 1º LINHA | D401: Unidade | E401: 2 | F401: 300 | G401: =E401*F401 -> 600 | H401: JANEIRO | I401: DEZEMBRO | J401: NÃO | K401: NÃO | L401: amortecedor traseiro para manutenção do veiculo ford fiesta ano 2012/2013 | N401: AGRICULTURA
A402: Material de Consumo | B402: Material para Manutenção de Veículos | C402: AMORTECEDOR TRASEIRO 1º LINHA | D402: Unidade | E402: 2 | F402: 300 | G402: =E402*F402 -> 600 | H402: JANEIRO | I402: DEZEMBRO | J402: SIM | K402: NÃO | L402: amortecedor traseiro para manutenção do veiculo vw saveiro 2012/2013 | N402: AGRICULTURA
A403: Material de Consumo | B403: Outros Materiais de Consumo | C403: ANTICORROSIVO DESENGRIPANTE | D403: Unidade | E403: 24 | F403: 21.9 | G403: =E403*F403 -> 525.6 | H403: JANEIRO | I403: DEZEMBRO | J403: NÃO | K403: NÃO | L403: produto usado na manutenção dos implementos e maquinários da secretaria | N403: AGRICULTURA
A404: Material de Consumo | B404: Material de Expediente | C404: APAGADOR PARA QUADRO BRANCO | D404: Unidade | E404: 2 | F404: 17.8 | G404: =E404*F404 -> 35.6 | H404: JANEIRO | I404: MARÇO | J404: NÃO | K404: NÃO | L404: apagador para uso no quadro branco de cotações agricolas e avisos da secretaria | N404: AGRICULTURA
A405: Material Permanente | B405: Aparelhos e Equipamentos de Comunicação | C405: APARELHO DE TELEFONE FIXO | D405: Unidade | E405: 1 | F405: 140 | G405: =E405*F405 -> 140 | H405: JANEIRO | I405: MARÇO | J405: NÃO | K405: NÃO | L405: aparelho de telefone fixo sem fio para melhor uso e compartilhamento nas salas da secretaria | N405: AGRICULTURA
A406: Material de Consumo | B406: Material de Expediente | C406: ARQUIVO MORTO DE PAPELÃO GRANDE | D406: Unidade | E406: 20 | F406: 4.8 | G406: =E406*F406 -> 96 | H406: JANEIRO | I406: DEZEMBRO | J406: NÃO | K406: NÃO | L406: material de expediente usado para arquivamento de documentos da secretaria | N406: AGRICULTURA
A407: Material de Consumo | B407: Material para Manutenção de Veículos | C407: ARRUELAS 3366318 | D407: Unidade | E407: 200 | F407: 60 | G407: =E407*F407 -> 12000 | H407: JANEIRO | I407: DEZEMBRO | J407: NÃO | K407: NÃO | L407: PARA MANUTENÇÃO DOS IMPLEMENTOS | N407: AGRICULTURA
A408: Material de Consumo | B408: Material de Expediente | C408: ATILHOS DE BORRACHA, PCT DE 1KG | D408: Unidade | E408: 1 | F408: 26.7 | G408: =E408*F408 -> 26.7 | H408: JANEIRO | I408: MARÇO | J408: NÃO | K408: NÃO | L408: material de escritorio utilizado pelos funcionários da secretaria | N408: AGRICULTURA
A409: Material de Consumo | B409: Material de Limpeza e Produtos de Higienização | C409: BALDE PLÁSTICO PARA LIMPEZA COM ALÇA CAPACIDADE DE 15 LTS | D409: Unidade | E409: 2 | F409: 16.9 | G409: =E409*F409 -> 33.8 | H409: JANEIRO | I409: DEZEMBRO | J409: NÃO | K409: NÃO | L409: balde para uso na limpeza e manutenção da secretaria | N409: AGRICULTURA
A410: Material de Consumo | B410: Material para Manutenção de Veículos | C410: BANDEJA SUSPENSÃO LADO DIREITO | D410: Unidade | E410: 2 | F410: 160 | G410: =E410*F410 -> 320 | H410: FEVEREIRO | I410: DEZEMBRO | J410: NÃO | K410: NÃO | L410: bandeja para manutenção do veiculo ford fiesta ano 2012/2013 | N410: AGRICULTURA
A411: Material de Consumo | B411: Material para Manutenção de Veículos | C411: BANDEJA SUSPENSÃO LADO DIREITO | D411: Unidade | E411: 2 | F411: 160 | G411: =E411*F411 -> 320 | H411: FEVEREIRO | I411: DEZEMBRO | J411: NÃO | K411: NÃO | L411: bandeja para manutenção do veiculo ford fiesta ano 2012/2013 | N411: AGRICULTURA
A412: Material de Consumo | B412: Material para Manutenção de Veículos | C412: BANDEJA SUSPENSÃO LADO ESQUERDO | D412: Unidade | E412: 2 | F412: 190 | G412: =E412*F412 -> 380 | H412: FEVEREIRO | I412: DEZEMBRO | J412: NÃO | K412: NÃO | L412: bandeja para manutenção do veiculo ford fiesta ano 2012/2013 | N412: AGRICULTURA
... A421: Material de Consumo | B421: Material para Manutenção de Veículos | C421: BATERIA 70AH | D421: Unidade | E421: 2 | F421: 640 | G421: =E421*F421 -> 1280 | H421: JANEIRO | I421: DEZEMBRO | J421: NÃO | K421: NÃO | L421: bateria para manutenção dos veiculo ford fiesta ano 2012/2013 e vw saveiro 2012/2013 | N421: AGRICULTURA
A422: Material Permanente | B422: Máquinas, Utensílios e Equipamentos Diversos | C422: BEBEDOURO DE ÁGUA C/ BOMBONA | D422: Unidade | E422: 1 | F422: 349,5 | G422: =E422*F422 -> 349.5 | H422: JANEIRO | I422: FEVEREIRO | J422: NÃO | K422: NÃO | L422: bebedouro para agua potavel dos funcionarios e municipes que vem até a secretaria | N422: AGRICULTURA
A423: Material de Consumo | B423: Material para Manutenção de Bens Móveis | C423: BICO ENGRAXADEIRA | D423: Unidade | E423: 4 | F423: 14,9 | G423: =E423*F423 -> 59.6 | H423: JANEIRO | I423: DEZEMBRO | J423: NÃO | K423: NÃO | L423: peça usada na engraxadeira que faz a manutenção dos implemntos para que os parafusos e engrenagens não enferrugem | N423: AGRICULTURA
A424: Material de Consumo | B424: Material de Expediente | C424: BLOCO GUIA ARRECADAÇÃO | D424: Unidade | E424: 10 | F424: 3,8 | G424: =E424*F424 -> 38 | H424: JANEIRO | I424: JULHO | J424: NÃO | K424: NÃO | L424: confecção de blocos onde são emitidas guias de pagamento dos serviços prestados pela secretaria | N424: AGRICULTURA
A425: Material de Consumo | B425: Material de Proteção e Segurança | C425: BLOQUEADOR SOLAR FPS-50, 120G | D425: Unidade | E425: 20 | F425: 29,9 | G425: =E425*F425 -> 598 | H425: JANEIRO | I425: DEZEMBRO | J425: NÃO | K425: NÃO | L425: protetor dolar para proteção dos funcionarios da secretaria que diariamente esto expostos ao sol | N425: AGRICULTURA
A426: Material de Consumo | B426: Outros Materiais de Consumo | C426: BOBINA 57X80 TERMOSCRIPT-RELÓGIO PONTO | D426: Unidade | E426: 3 | F426: 18,9 | G426: =E426*F426 -> 56.7 | H426: JANEIRO | I426: JUNHO | J426: NÃO | K426: NÃO | L426: bobina para impressao de registro digital do ponto dos funcionarios da secretaria | N426: AGRICULTURA
...

Sheet TOTAIS
A1: RESUMO POR SECRETARIA:
A2: ADMINISTRAÇÃO | B2: =SUMIF(PAC!N:N,A2,PAC!G:G) -> 2067333
A3: AGRICULTURA | B3: =SUMIF(PAC!N:N,A3,PAC!G:G) -> 6849640.1
A4: ASSISTÊNCIA SOCIAL | B4: =SUMIF(PAC!N:N,A4,PAC!G:G) -> 5136564.2
A5: FAZENDA | B5: =SUMIF(PAC!N:N,A5,PAC!G:G) -> 260700.45
A6: OBRAS | B6: =SUMIF(PAC!N:N,A6,PAC!G:G) -> 2101096.9
A7: SAÚDE | B7: =SUMIF(PAC!N:N,A7,PAC!G:G) -> 8425069
A8: SMEC | B8: =SUMIF(PAC!N:N,A8,PAC!G:G) -> 14203086
A9: TOTAL GERAL | B9: =SUM(B2:B8) -> 39043490
